BEGIN:VCALENDAR
VERSION:2.0
PRODID:icalendar-ruby
CALSCALE:GREGORIAN
METHOD:PUBLISH
BEGIN:VTIMEZONE
TZID:Australia/Brisbane
BEGIN:STANDARD
DTSTART:19920301T020000
TZOFFSETFROM:+1100
TZOFFSETTO:+1000
TZNAME:AEST
END:STANDARD
END:VTIMEZONE
BEGIN:VEVENT
DTSTAMP:20260420T124059Z
UID:inspection_3006150
DTSTART;TZID=Australia/Brisbane:20260423T163000
DTEND;TZID=Australia/Brisbane:20260423T164500
CLASS:PUBLIC
CREATED:20260420T184525
DESCRIPTION: 
LAST-MODIFIED:20260420T184525
LOCATION:2 / 293-301 Esplanade\, CAIRNS NORTH QLD 4870\, Australia
SUMMARY:2 / 293-301 Esplanade\,  Inspection
URL;VALUE=URI:https://www.gbrproperty.com.au/
END:VEVENT
END:VCALENDAR
