BEGIN:VCALENDAR
VERSION:2.0
PRODID:icalendar-ruby
CALSCALE:GREGORIAN
METHOD:PUBLISH
BEGIN:VTIMEZONE
TZID:Australia/Brisbane
BEGIN:STANDARD
DTSTART:19920301T020000
TZOFFSETFROM:+1100
TZOFFSETTO:+1000
TZNAME:AEST
END:STANDARD
END:VTIMEZONE
BEGIN:VEVENT
DTSTAMP:20260423T095235Z
UID:inspection_3011349
DTSTART;TZID=Australia/Brisbane:20260428T170000
DTEND;TZID=Australia/Brisbane:20260428T171500
CLASS:PUBLIC
CREATED:20260423T145626
DESCRIPTION: 
LAST-MODIFIED:20260423T145626
LOCATION:2 Lotus Place\, MOOROOBOOL QLD 4870\, Australia
SUMMARY:2 Lotus Place\,  Inspection
URL;VALUE=URI:https://www.gbrproperty.com.au/
END:VEVENT
END:VCALENDAR
